BEGIN:VCALENDAR
VERSION:2.0
PRODID:-//Esmeralda Bernard - ECPv6.15.14//NONSGML v1.0//EN
CALSCALE:GREGORIAN
METHOD:PUBLISH
X-ORIGINAL-URL:https://www.esmeraldabernard.net
X-WR-CALDESC:Évènements pour Esmeralda Bernard
REFRESH-INTERVAL;VALUE=DURATION:PT1H
X-Robots-Tag:noindex
X-PUBLISHED-TTL:PT1H
BEGIN:VTIMEZONE
TZID:Europe/Paris
BEGIN:DAYLIGHT
TZOFFSETFROM:+0100
TZOFFSETTO:+0200
TZNAME:CEST
DTSTART:20250330T010000
END:DAYLIGHT
BEGIN:STANDARD
TZOFFSETFROM:+0200
TZOFFSETTO:+0100
TZNAME:CET
DTSTART:20251026T010000
END:STANDARD
BEGIN:DAYLIGHT
TZOFFSETFROM:+0100
TZOFFSETTO:+0200
TZNAME:CEST
DTSTART:20260329T010000
END:DAYLIGHT
BEGIN:STANDARD
TZOFFSETFROM:+0200
TZOFFSETTO:+0100
TZNAME:CET
DTSTART:20261025T010000
END:STANDARD
BEGIN:DAYLIGHT
TZOFFSETFROM:+0100
TZOFFSETTO:+0200
TZNAME:CEST
DTSTART:20270328T010000
END:DAYLIGHT
BEGIN:STANDARD
TZOFFSETFROM:+0200
TZOFFSETTO:+0100
TZNAME:CET
DTSTART:20271031T010000
END:STANDARD
END:VTIMEZONE
BEGIN:VEVENT
DTSTART;TZID=Europe/Paris:20260920T093000
DTEND;TZID=Europe/Paris:20260920T173000
DTSTAMP:20260425T144848
CREATED:20241111T093216Z
LAST-MODIFIED:20260414T105125Z
UID:10000043-1789896600-1789925400@www.esmeraldabernard.net
SUMMARY:Approfondissement pratique de vos capacités psi - Niveau PSI.3 (1 jour)
DESCRIPTION:Trois modules d’atelier pratiques consacrés à l’éveil de vos perceptions extrasensorielles. Le sixième sens est un potentiel naturel qui sommeille en chacun. Je vais vous aider à rétablir le contact avec vos capacités psychiques. Vous serez capable\, après entraînement\, de décrire des photos contenues dans des enveloppes fermées\, de décrire un objet caché et son histoire\, de décrire un lieu à distance ! Exercices de clairvoyance\, télépathie et de visions à distance … Ces modules peuvent se faire indépendamment des stages de tarot ou en même temps. Pas de prérequis\, accessible aux débutants. Nombre de participants limité pour garantir la qualité de l’apprentissage. \n 
URL:https://www.esmeraldabernard.net/event/approfondissement-pratique-de-vos-capacites-psi-niveau-psi-3-1-jour-3/
LOCATION:Salle du MOC – Aywaille\, Avenue de la République Française 6\, Aywaille\, Liège\, 4920\, Belgique
CATEGORIES:PSI 3,Sixième sens
ATTACH;FMTTYPE=image/jpeg:https://www.esmeraldabernard.net/wp-content/uploads/2022/11/meditation-1384758_1280.jpg
ORGANIZER;CN="Esm%C3%A9ralda Bernard":MAILTO:esmeraldabernard@belgacom.net
GEO:50.473356344234;5.671593471285
X-APPLE-STRUCTURED-LOCATION;VALUE=URI;X-ADDRESS=Salle du MOC – Aywaille Avenue de la République Française 6 Aywaille Liège 4920 Belgique;X-APPLE-RADIUS=500;X-TITLE=Avenue de la République Française 6:geo:5.671593471285,50.473356344234
END:VEVENT
END:VCALENDAR