BEGIN:VCALENDAR
VERSION:2.0
PRODID:-//Esmeralda Bernard - ECPv6.15.14//NONSGML v1.0//EN
CALSCALE:GREGORIAN
METHOD:PUBLISH
X-ORIGINAL-URL:https://www.esmeraldabernard.net
X-WR-CALDESC:Évènements pour Esmeralda Bernard
REFRESH-INTERVAL;VALUE=DURATION:PT1H
X-Robots-Tag:noindex
X-PUBLISHED-TTL:PT1H
BEGIN:VTIMEZONE
TZID:Europe/Paris
BEGIN:DAYLIGHT
TZOFFSETFROM:+0100
TZOFFSETTO:+0200
TZNAME:CEST
DTSTART:20250330T010000
END:DAYLIGHT
BEGIN:STANDARD
TZOFFSETFROM:+0200
TZOFFSETTO:+0100
TZNAME:CET
DTSTART:20251026T010000
END:STANDARD
BEGIN:DAYLIGHT
TZOFFSETFROM:+0100
TZOFFSETTO:+0200
TZNAME:CEST
DTSTART:20260329T010000
END:DAYLIGHT
BEGIN:STANDARD
TZOFFSETFROM:+0200
TZOFFSETTO:+0100
TZNAME:CET
DTSTART:20261025T010000
END:STANDARD
BEGIN:DAYLIGHT
TZOFFSETFROM:+0100
TZOFFSETTO:+0200
TZNAME:CEST
DTSTART:20270328T010000
END:DAYLIGHT
BEGIN:STANDARD
TZOFFSETFROM:+0200
TZOFFSETTO:+0100
TZNAME:CET
DTSTART:20271031T010000
END:STANDARD
END:VTIMEZONE
BEGIN:VEVENT
DTSTART;TZID=Europe/Paris:20260621T093000
DTEND;TZID=Europe/Paris:20260621T173000
DTSTAMP:20260424T221946
CREATED:20241110T114103Z
LAST-MODIFIED:20260414T101621Z
UID:10000036-1782034200-1782063000@www.esmeraldabernard.net
SUMMARY:Le Jeu de votre Destin – Niveau 3 – Journée de pratique – niveau FORT (1 jour)
DESCRIPTION:6 modules en 3 week-end ou 4-5 jours selon votre disponibilité et votre motivation. Véritable alphabet symbolique et divinatoire\, le tarot vous répond\, vous guide\, vous éclaire… sur le présent et l’avenir. C’est aussi une formidable rampe de lancement pour développer votre intuition. Il suffit d’apprendre à interpréter les cartes et écouter sa « petite voix ». Une approche souple\, claire et pratique\, ouverte à tous. Convivialité et partage d’un groupe. Nombre de participants limité pour garantir la qualité de l’apprentissage. \n 
URL:https://www.esmeraldabernard.net/event/le-jeu-de-votre-destin-niveau-3-journee-de-pratique-niveau-fort-1-jour-3/
LOCATION:Salle du MOC – Aywaille\, Avenue de la République Française 6\, Aywaille\, Liège\, 4920\, Belgique
CATEGORIES:Formations,Niveau 3
ATTACH;FMTTYPE=image/jpeg:https://www.esmeraldabernard.net/wp-content/uploads/2022/11/initiation3.jpg
ORGANIZER;CN="Esm%C3%A9ralda Bernard":MAILTO:esmeraldabernard@belgacom.net
GEO:50.473356344234;5.671593471285
X-APPLE-STRUCTURED-LOCATION;VALUE=URI;X-ADDRESS=Salle du MOC – Aywaille Avenue de la République Française 6 Aywaille Liège 4920 Belgique;X-APPLE-RADIUS=500;X-TITLE=Avenue de la République Française 6:geo:5.671593471285,50.473356344234
END:VEVENT
END:VCALENDAR